BEGIN:VCALENDAR
VERSION:2.0
PRODID:-//Shanine Dennill - ECPv6.15.20//NONSGML v1.0//EN
CALSCALE:GREGORIAN
METHOD:PUBLISH
X-WR-CALNAME:Shanine Dennill
X-ORIGINAL-URL:https://shaninedennill.com
X-WR-CALDESC:Events for Shanine Dennill
REFRESH-INTERVAL;VALUE=DURATION:PT1H
X-Robots-Tag:noindex
X-PUBLISHED-TTL:PT1H
BEGIN:VTIMEZONE
TZID:America/Halifax
BEGIN:DAYLIGHT
TZOFFSETFROM:-0400
TZOFFSETTO:-0300
TZNAME:ADT
DTSTART:20230312T060000
END:DAYLIGHT
BEGIN:STANDARD
TZOFFSETFROM:-0300
TZOFFSETTO:-0400
TZNAME:AST
DTSTART:20231105T050000
END:STANDARD
BEGIN:DAYLIGHT
TZOFFSETFROM:-0400
TZOFFSETTO:-0300
TZNAME:ADT
DTSTART:20240310T060000
END:DAYLIGHT
BEGIN:STANDARD
TZOFFSETFROM:-0300
TZOFFSETTO:-0400
TZNAME:AST
DTSTART:20241103T050000
END:STANDARD
BEGIN:DAYLIGHT
TZOFFSETFROM:-0400
TZOFFSETTO:-0300
TZNAME:ADT
DTSTART:20250309T060000
END:DAYLIGHT
BEGIN:STANDARD
TZOFFSETFROM:-0300
TZOFFSETTO:-0400
TZNAME:AST
DTSTART:20251102T050000
END:STANDARD
END:VTIMEZONE
BEGIN:VEVENT
DTSTART;TZID=America/Halifax:20240614T160000
DTEND;TZID=America/Halifax:20240616T150000
DTSTAMP:20260421T122325
CREATED:20240305T002737Z
LAST-MODIFIED:20240305T005711Z
UID:12109-1718380800-1718550000@shaninedennill.com
SUMMARY:AyurYoga Retreat
DESCRIPTION:Every so often\, we need a break from our familiar surroundings to listen within and allow space for transformation. \nInye is excited to host our yoga retreat at the beautiful Harmony Dawn for the third year! An opportunity to move away from the constant hum of city life\, to the AUM of the Cosmic rhythm. AyurYoga retreat is a practice for you to understand the elements within the body\, and how they resonate with the natural world. Surround yourself in nature\, eat delicious and masterfully prepared food\, practice AyurYoga\, and learn Mantra chanting\, this retreat will guide you back to a balanced physical & mental state. \nHarmony Dawn is on 50 acres of rolling meadows and forests. It is completely self-sufficient and off the power grid. The country air boasts one of the highest oxygen levels in Ontario. Their scenic Rice Lake is relatively shallow\, and you are welcome to take a swim. The delicious homemade meals are made of herbs and vegetables grown on the property and surrounding local organic farms. \nThis is a time for your inner evolution. \n  \nVIEW SCHEDULE \nREGISTER
URL:https://shaninedennill.com/event/ayuryoga-retreat/
LOCATION:Harmony Dawn Retreat Centre\, 800 Baxter Rd\, Hastings\, ON\, K0L 1Y0\, Canada
CATEGORIES:Retreats (3-Days)
ATTACH;FMTTYPE=image/jpeg:https://shaninedennill.com/wp-content/uploads/2024/03/24-06-AyurYoga.jpg
END:VEVENT
BEGIN:VEVENT
DTSTART;TZID=America/Halifax:20240630T100000
DTEND;TZID=America/Halifax:20240630T110000
DTSTAMP:20260421T122325
CREATED:20240603T161032Z
LAST-MODIFIED:20240625T163029Z
UID:12635-1719741600-1719745200@shaninedennill.com
SUMMARY:Yoga and The Bees
DESCRIPTION:Did you know that honey bees are not native to North America and were imported here? And yet they are responsible for pollinating most of our fruits and vegetables. This Yoga and The Bees session is a beautiful way to connect with yoga and nature. \nJoin us for a 60-minute Gentle Hatha yoga class outside. We will connect with our breath (yes\, we will do the Bee Breath)\, move our bodies\, and enjoy connecting with nature. Afterwards\, savour a refreshing Honey Soda in our beautiful retail store\, stocked with our honey (which you can sample)\, local produce\, and wonderful gifts. Take a stroll through our pollinator path and learn about pollinators. Sit with 30 of our 700 beehives\, and listen to the constant hum from our honey bees. Studies have proven that the humming (vibrations) from the bees calms and soothes the body and mind. \n  \nWhat to Bring: \n\nYoga Mat\nOptional: a yoga block and strap (or belt/tie)\nWater\nSunscreen & Sunglasses\n\n  \nNotes: \n\nThe bees will not bother us\, but please take this into account if you have allergies. You will be at a safe distance from the bees to practice yoga.\nNo walk-ins – please sign up ahead of time (with the link below) and complete the waiver form (print and bring it to your class).\nSpace is limited.\nThere is a washroom and retail store.\nFor inclement weather\, we will notify you before 8:00 am the day of the class via email\, if it is cancelled. We will make up the class on another date.\nIncluded in the price: yoga class\, pollinator path\, 1 glass of honey soda\n\n  \nREGISTER HERE \nPLEASE COMPLETE THIS WAIVER FORM
URL:https://shaninedennill.com/event/yoga-and-the-bees/
LOCATION:Backed By Bees\, 6214 Appleby Line\, Burlington\, ON\, L7M 0P7\, Canada
CATEGORIES:Event or Workshop
ATTACH;FMTTYPE=image/jpeg:https://shaninedennill.com/wp-content/uploads/2024/06/Yoga-Bees-2.jpg
END:VEVENT
END:VCALENDAR