BEGIN:VCALENDAR
VERSION:2.0
PRODID:-//Shanine Dennill - ECPv6.15.20//NONSGML v1.0//EN
CALSCALE:GREGORIAN
METHOD:PUBLISH
X-WR-CALNAME:Shanine Dennill
X-ORIGINAL-URL:https://shaninedennill.com
X-WR-CALDESC:Events for Shanine Dennill
REFRESH-INTERVAL;VALUE=DURATION:PT1H
X-Robots-Tag:noindex
X-PUBLISHED-TTL:PT1H
BEGIN:VTIMEZONE
TZID:America/Halifax
BEGIN:DAYLIGHT
TZOFFSETFROM:-0400
TZOFFSETTO:-0300
TZNAME:ADT
DTSTART:20230312T060000
END:DAYLIGHT
BEGIN:STANDARD
TZOFFSETFROM:-0300
TZOFFSETTO:-0400
TZNAME:AST
DTSTART:20231105T050000
END:STANDARD
BEGIN:DAYLIGHT
TZOFFSETFROM:-0400
TZOFFSETTO:-0300
TZNAME:ADT
DTSTART:20240310T060000
END:DAYLIGHT
BEGIN:STANDARD
TZOFFSETFROM:-0300
TZOFFSETTO:-0400
TZNAME:AST
DTSTART:20241103T050000
END:STANDARD
BEGIN:DAYLIGHT
TZOFFSETFROM:-0400
TZOFFSETTO:-0300
TZNAME:ADT
DTSTART:20250309T060000
END:DAYLIGHT
BEGIN:STANDARD
TZOFFSETFROM:-0300
TZOFFSETTO:-0400
TZNAME:AST
DTSTART:20251102T050000
END:STANDARD
END:VTIMEZONE
BEGIN:VEVENT
DTSTART;TZID=America/Halifax:20241102T140000
DTEND;TZID=America/Halifax:20241102T160000
DTSTAMP:20260420T005805
CREATED:20240116T005503Z
LAST-MODIFIED:20240709T142934Z
UID:11268-1730556000-1730563200@shaninedennill.com
SUMMARY:New Moon Yoga Nidra: Rest in the Altar of Your Heart
DESCRIPTION:Life can throw us many curveballs\, hardships\, and heartaches. We can tighten up\, close off (trying to protect our heart)\, become bitter and cynical\, and even begin to control our environment and others. This disconnects us from our own heart and others. But there’s another choice – to remain centred in love – to rest in the altar of your heart. \nThe more we rest in the altar of our heart and nurture our heart\, the more we enjoy life and see the beauty around us. Even in the heartache\, we learn to cherish the deep lessons that shape who we are and allow us to connect with others from a place of compassion and mutual understanding. \nIn this workshop\, we: \n\nSet a New Moon intention for keeping our hearts open\nExplore the science behind the energetic power of the heart centre\nCreate boundaries to care for your heart and life\nCreate daily rituals around gratitude and keeping the heart open (for self and others) during challenges\nEnjoy a Yoga Nidra practice to enter the cave of your heart\nAmplify self-love\, soothe the heart\, and feel embodied with a tea (damiana and lemon balm) – we will have this at the end of the workshop\n\n  \nAbout New Moon Yoga Nidra \nNighttime is a time to turn towards stillness. In this stillness\, we are closest to our truest essence. Add to this the powerful New Moon\, which is void of light in the night sky. Out of this void and emptiness\, all is birthed into Life. This is a great time to plant seeds of intentions at the start of a new lunar cycle. \nWe begin the session with a ritual to cleanse our space and honour the directions and elements. This practice is seen in many spiritual traditions. \nWe then move into a space of meditative self-inquiry (related to the New Moon in Scorpio and regarding Love and the Heart)\, revealing our seeds of intentions for the month. \nAs we rest in a Restorative yoga pose\, we are guided into Yoga Nidra. I share practices passed down through my teachers (from the Sri Vidya lineage – Himalayan Institute). We offer our intentions to the Goddess. \nYoga Nidra (commonly referred to as yogic sleep) is an ancient Tantric Yoga practice that helps reduce stress\, anxiety\, and insomnia. In ancient texts\, Yoga Nidra is a Goddess. \nIn this session\, I guide you to a place of relaxation where the thoughts begin to slow down. You’ll move into a deep state of stillness (moving through the koshas)\, where you are unconditionally supported and awaken a connection to the infinite or Source. \n  \nREGISTER HERE \nLEARN MORE \n 
URL:https://shaninedennill.com/event/new-moon-yoga-nidra-rest-in-the-altar-of-your-heart/
LOCATION:Inye Yoga\, 300-2640 Bristol Cir\, Oakville\, ON\, L6H 6Z7\, Canada
CATEGORIES:Moon Rituals
ATTACH;FMTTYPE=image/jpeg:https://shaninedennill.com/wp-content/uploads/2024/01/2024-11-Altar-of-the-Heart.jpg
END:VEVENT
BEGIN:VEVENT
DTSTART;TZID=America/Halifax:20240922T100000
DTEND;TZID=America/Halifax:20240922T110000
DTSTAMP:20260420T005805
CREATED:20240829T154219Z
LAST-MODIFIED:20240829T154219Z
UID:12912-1726999200-1727002800@shaninedennill.com
SUMMARY:Yoga and The Bees (Sep)
DESCRIPTION:Did you know that honey bees are not native to North America and were imported here? And yet they are responsible for pollinating most of our fruits and vegetables. This Yoga and The Bees session is a beautiful way to connect with yoga and nature. \nJoin us for a 60-minute Gentle Hatha yoga class outside. We will connect with our breath (yes\, we will do the Bee Breath)\, move our bodies\, and enjoy connecting with nature. Afterwards\, savour a refreshing Honey Soda in our beautiful retail store\, stocked with our honey (which you can sample)\, local produce\, and wonderful gifts. Take a stroll through our pollinator path and learn about pollinators. Sit with 30 of our 800 beehives\, and listen to the constant hum from our honey bees. Studies have proven that the humming (vibrations) from the bees calms and soothes the body and mind. \n  \nWhat to Bring: \n\nYoga Mat\nOptional: a yoga block and strap (or belt/tie)\nWater\nSunscreen & Sunglasses\n\n  \nNotes: \n\nThe bees will not bother us\, but please take this into account if you have allergies. You will be at a safe distance from the bees to practice yoga.\nNo walk-ins – please sign up ahead of time (with the link below) and complete the waiver form (print and bring it to your class).\nSpace is limited.\nThere is a washroom and retail store.\nFor inclement weather\, we will notify you before 8:00 am the day of the class via email\, if it is cancelled. We will make up the class on another date.\nIncluded in the price: yoga class\, pollinator path\, 1 glass of honey soda\nNon-refundable if you do not show for the class.\n\n  \nREGISTER HERE \nPLEASE COMPLETE THIS WAIVER FORM
URL:https://shaninedennill.com/event/yoga-and-the-bees-sep/
LOCATION:Backed By Bees\, 6214 Appleby Line\, Burlington\, ON\, L7M 0P7\, Canada
CATEGORIES:Event or Workshop
ATTACH;FMTTYPE=image/jpeg:https://shaninedennill.com/wp-content/uploads/2024/08/Website-Mktg-BBB-Sep.jpg
END:VEVENT
BEGIN:VEVENT
DTSTART;TZID=America/Halifax:20240728T100000
DTEND;TZID=America/Halifax:20240728T110000
DTSTAMP:20260420T005805
CREATED:20240628T190745Z
LAST-MODIFIED:20240704T214010Z
UID:12663-1722160800-1722164400@shaninedennill.com
SUMMARY:Yoga and The Bees (July)
DESCRIPTION:Did you know that honey bees are not native to North America and were imported here? And yet they are responsible for pollinating most of our fruits and vegetables. This Yoga and The Bees session is a beautiful way to connect with yoga and nature. \nJoin us for a 60-minute Gentle Hatha yoga class outside. We will connect with our breath (yes\, we will do the Bee Breath)\, move our bodies\, and enjoy connecting with nature. Afterwards\, savour a refreshing Honey Soda in our beautiful retail store\, stocked with our honey (which you can sample)\, local produce\, and wonderful gifts. Take a stroll through our pollinator path and learn about pollinators. Sit with 30 of our 700 beehives\, and listen to the constant hum from our honey bees. Studies have proven that the humming (vibrations) from the bees calms and soothes the body and mind. \n  \nWhat to Bring: \n\nYoga Mat\nOptional: a yoga block and strap (or belt/tie)\nWater\nSunscreen & Sunglasses\n\n  \nNotes: \n\nThe bees will not bother us\, but please take this into account if you have allergies. You will be at a safe distance from the bees to practice yoga.\nNo walk-ins – please sign up ahead of time (with the link below) and complete the waiver form (print and bring it to your class).\nSpace is limited.\nThere is a washroom and retail store.\nFor inclement weather\, we will notify you before 8:00 am the day of the class via email\, if it is cancelled. We will make up the class on another date.\nIncluded in the price: yoga class\, pollinator path\, 1 glass of honey soda\nNon-refundable if you do not show for the class.\n\n  \nREGISTER HERE \nPLEASE COMPLETE THIS WAIVER FORM
URL:https://shaninedennill.com/event/yoga-and-the-bees-july/
LOCATION:Backed By Bees\, 6214 Appleby Line\, Burlington\, ON\, L7M 0P7\, Canada
CATEGORIES:Event or Workshop
ATTACH;FMTTYPE=image/jpeg:https://shaninedennill.com/wp-content/uploads/2024/06/Yoga-Bees-July-2024.jpg
END:VEVENT
BEGIN:VEVENT
DTSTART;TZID=America/Halifax:20240630T100000
DTEND;TZID=America/Halifax:20240630T110000
DTSTAMP:20260420T005805
CREATED:20240603T161032Z
LAST-MODIFIED:20240625T163029Z
UID:12635-1719741600-1719745200@shaninedennill.com
SUMMARY:Yoga and The Bees
DESCRIPTION:Did you know that honey bees are not native to North America and were imported here? And yet they are responsible for pollinating most of our fruits and vegetables. This Yoga and The Bees session is a beautiful way to connect with yoga and nature. \nJoin us for a 60-minute Gentle Hatha yoga class outside. We will connect with our breath (yes\, we will do the Bee Breath)\, move our bodies\, and enjoy connecting with nature. Afterwards\, savour a refreshing Honey Soda in our beautiful retail store\, stocked with our honey (which you can sample)\, local produce\, and wonderful gifts. Take a stroll through our pollinator path and learn about pollinators. Sit with 30 of our 700 beehives\, and listen to the constant hum from our honey bees. Studies have proven that the humming (vibrations) from the bees calms and soothes the body and mind. \n  \nWhat to Bring: \n\nYoga Mat\nOptional: a yoga block and strap (or belt/tie)\nWater\nSunscreen & Sunglasses\n\n  \nNotes: \n\nThe bees will not bother us\, but please take this into account if you have allergies. You will be at a safe distance from the bees to practice yoga.\nNo walk-ins – please sign up ahead of time (with the link below) and complete the waiver form (print and bring it to your class).\nSpace is limited.\nThere is a washroom and retail store.\nFor inclement weather\, we will notify you before 8:00 am the day of the class via email\, if it is cancelled. We will make up the class on another date.\nIncluded in the price: yoga class\, pollinator path\, 1 glass of honey soda\n\n  \nREGISTER HERE \nPLEASE COMPLETE THIS WAIVER FORM
URL:https://shaninedennill.com/event/yoga-and-the-bees/
LOCATION:Backed By Bees\, 6214 Appleby Line\, Burlington\, ON\, L7M 0P7\, Canada
CATEGORIES:Event or Workshop
ATTACH;FMTTYPE=image/jpeg:https://shaninedennill.com/wp-content/uploads/2024/06/Yoga-Bees-2.jpg
END:VEVENT
BEGIN:VEVENT
DTSTART;TZID=America/Halifax:20240614T160000
DTEND;TZID=America/Halifax:20240616T150000
DTSTAMP:20260420T005805
CREATED:20240305T002737Z
LAST-MODIFIED:20240305T005711Z
UID:12109-1718380800-1718550000@shaninedennill.com
SUMMARY:AyurYoga Retreat
DESCRIPTION:Every so often\, we need a break from our familiar surroundings to listen within and allow space for transformation. \nInye is excited to host our yoga retreat at the beautiful Harmony Dawn for the third year! An opportunity to move away from the constant hum of city life\, to the AUM of the Cosmic rhythm. AyurYoga retreat is a practice for you to understand the elements within the body\, and how they resonate with the natural world. Surround yourself in nature\, eat delicious and masterfully prepared food\, practice AyurYoga\, and learn Mantra chanting\, this retreat will guide you back to a balanced physical & mental state. \nHarmony Dawn is on 50 acres of rolling meadows and forests. It is completely self-sufficient and off the power grid. The country air boasts one of the highest oxygen levels in Ontario. Their scenic Rice Lake is relatively shallow\, and you are welcome to take a swim. The delicious homemade meals are made of herbs and vegetables grown on the property and surrounding local organic farms. \nThis is a time for your inner evolution. \n  \nVIEW SCHEDULE \nREGISTER
URL:https://shaninedennill.com/event/ayuryoga-retreat/
LOCATION:Harmony Dawn Retreat Centre\, 800 Baxter Rd\, Hastings\, ON\, K0L 1Y0\, Canada
CATEGORIES:Retreats (3-Days)
ATTACH;FMTTYPE=image/jpeg:https://shaninedennill.com/wp-content/uploads/2024/03/24-06-AyurYoga.jpg
END:VEVENT
BEGIN:VEVENT
DTSTART;TZID=America/Halifax:20240505T140000
DTEND;TZID=America/Halifax:20240505T160000
DTSTAMP:20260420T005805
CREATED:20240116T002858Z
LAST-MODIFIED:20240304T233957Z
UID:11255-1714917600-1714924800@shaninedennill.com
SUMMARY:New Moon Yoga Nidra: Enter the Dream Lodge
DESCRIPTION:Perhaps you dream all the time but don’t know what they mean\, or you don’t know if you dream because you can’t recall them. This workshop will provide you with tools and rituals to support and amplify the magical realm of the dream lodge. \nMy dreams have always revealed to me subconscious patterning that needs to be healed\, as well as provide clues to the future (revealing what will happen\, choices to make\, and giving me signposts when I am on the correct path). \nThere are 4 states of consciousness: waking\, dreaming\, deep sleep\, and Turiya (which pervades the others). Yoga Nidra moves us to a place of awareness. The more we practice this\, the greater our awareness in other states\, including dreaming. We can remain aware in our dreams and also be able to recall our dreams (bringing illumination to what was once murky). \nIn this workshop\, we: \n\nSet a New Moon intention for the exploration of the dream world and raising awareness\nExplore the 4 states of consciousness and how to bring awareness to the transitions\nImplement rituals for the Dream World: pre-sleep ritual\, journaling\, bath\, creating a dream talisman\nAsk a question before sleeping and see how the dream world creatively reveals the answer\nEnjoy a Yoga Nidra practice to increase awareness in the dream state\nAmplify your dreams with a tea (reishi and mugwort) – we will have this at the end of the workshop\n\n\n  \nAbout New Moon Yoga Nidra \nNighttime is a time to turn towards stillness. In this stillness\, we are closest to our truest essence. Add to this the powerful New Moon\, which is void of light in the night sky. Out of this void and emptiness\, all is birthed into Life. This is a great time to plant seeds of intentions at the start of a new lunar cycle. \nWe begin the session with a ritual to cleanse our space and honour the directions and elements. This practice is seen in many spiritual traditions. \nWe then move into a space of meditative self-inquiry (related to the New Moon in Taurus and regarding Dream)\, revealing our seeds of intentions for the month. \nAs we rest in a Restorative yoga pose\, we are guided into Yoga Nidra. I share practices passed down through my teachers (from the Sri Vidya lineage – Himalayan Institute). We offer our intentions to the Goddess. \nYoga Nidra (commonly referred to as yogic sleep) is an ancient Tantric Yoga practice that helps reduce stress\, anxiety\, and insomnia. In ancient texts\, Yoga Nidra is a Goddess. \nIn this session\, I guide you to a place of relaxation where the thoughts begin to slow down. You’ll move into a deep state of stillness (moving through the koshas)\, where you are unconditionally supported and awaken a connection to the infinite or Source. \n  \nREGISTRATION OPENING SOON \nLEARN MORE
URL:https://shaninedennill.com/event/new-moon-yoga-nidra-dream-lodge/
LOCATION:Inye Yoga\, 300-2640 Bristol Cir\, Oakville\, ON\, L6H 6Z7\, Canada
CATEGORIES:Moon Rituals
ATTACH;FMTTYPE=image/jpeg:https://shaninedennill.com/wp-content/uploads/2024/01/2024-05-Dream-Lodge.jpg
END:VEVENT
END:VCALENDAR