BEGIN:VCALENDAR
VERSION:2.0
PRODID:-//Shanine Dennill - ECPv6.15.20//NONSGML v1.0//EN
CALSCALE:GREGORIAN
METHOD:PUBLISH
X-ORIGINAL-URL:https://shaninedennill.com
X-WR-CALDESC:Events for Shanine Dennill
REFRESH-INTERVAL;VALUE=DURATION:PT1H
X-Robots-Tag:noindex
X-PUBLISHED-TTL:PT1H
BEGIN:VTIMEZONE
TZID:America/Halifax
BEGIN:DAYLIGHT
TZOFFSETFROM:-0400
TZOFFSETTO:-0300
TZNAME:ADT
DTSTART:20240310T060000
END:DAYLIGHT
BEGIN:STANDARD
TZOFFSETFROM:-0300
TZOFFSETTO:-0400
TZNAME:AST
DTSTART:20241103T050000
END:STANDARD
BEGIN:DAYLIGHT
TZOFFSETFROM:-0400
TZOFFSETTO:-0300
TZNAME:ADT
DTSTART:20250309T060000
END:DAYLIGHT
BEGIN:STANDARD
TZOFFSETFROM:-0300
TZOFFSETTO:-0400
TZNAME:AST
DTSTART:20251102T050000
END:STANDARD
BEGIN:DAYLIGHT
TZOFFSETFROM:-0400
TZOFFSETTO:-0300
TZNAME:ADT
DTSTART:20260308T060000
END:DAYLIGHT
BEGIN:STANDARD
TZOFFSETFROM:-0300
TZOFFSETTO:-0400
TZNAME:AST
DTSTART:20261101T050000
END:STANDARD
END:VTIMEZONE
BEGIN:VEVENT
DTSTART;TZID=America/Halifax:20251231T190000
DTEND;TZID=America/Halifax:20251231T210000
DTSTAMP:20260419T174720
CREATED:20241117T163300Z
LAST-MODIFIED:20251218T025119Z
UID:13393-1767207600-1767214800@shaninedennill.com
SUMMARY:New Year's Eve of Relaxation
DESCRIPTION:We invite you into a space of deep rest as you release 2025 and move into 2026 with a clear intention! \nJoin Eddee & Shanine in a supportive space where you can reflect and release 2025 and be held in restorative poses to nourish the body\, mind\, and soul. We will follow with a Sankalpa Yoga Nidra practice\, creating a clear vision for 2026. \nA beautiful sound journey with crystal bowls by Preeti Berar will carry you deep into the healing frequency and move your intentions into a higher frequency – a proclamation to Self and the Universe of your life path. \n  \nBy attending this 2-hour workshop you will: \n\nSound and Restorative is a beautiful pairing. Restorative yoga releases tension\, cultivates more space\, softens the edges we experience in ourselves and life\, and opens up new energy to invigorate us. Sound Healing allows us to sink into a higher frequency. The mind and body surrenders into the vibration. Enjoy the exquisite sounds of singing bowls\, tuning forks\, and more. \n  \nProps you will need: \n\n\n\nYour yoga mat\n1 bolster (or cushion)\n2-4 blankets\n2 blocks\n1 light cloth to cover your eyes\nPlease have a journal and a pen with you to write down any thoughts discussed for post-discussion/reflection.\nLight meal no shorter than 2 hours prior to our gathering.\nPlease wear comfortable clothing. The weather is unpredictable\, think layers.\nNo perfumes/cologne/essential oils.\nIf you have a crystal you are working with\, this is a great time to have it with you.\n\n  \nREGISTER HERE
URL:https://shaninedennill.com/event/new-years-eve-of-relaxation-2/
LOCATION:Inye Yoga\, 300-2640 Bristol Cir\, Oakville\, ON\, L6H 6Z7\, Canada
CATEGORIES:Event or Workshop
ATTACH;FMTTYPE=image/jpeg:https://shaninedennill.com/wp-content/uploads/2024/11/2025-New-Years-Eve-2.jpg
END:VEVENT
END:VCALENDAR